View In:
ArcGIS JavaScript
ArcGIS Online Map Viewer
ArcGIS Earth
Service Description: opendata_trameVerte_aireDispersionBoisee
Name: opendata_trameVerte_aireDispersionBoisee
Description:
Single Fused Map Cache: false
Extent:
XMin: 637299.51953125
YMin: 6838623.399999995
XMax: 671749.51953125
YMax: 6879143.399999995
Spatial Reference: 102110
(2154)
Initial Extent:
XMin: 637299.51953125
YMin: 6838623.399999995
XMax: 671749.51953125
YMax: 6879143.399999995
Spatial Reference: 102110
(2154)
Full Extent:
XMin: 637299.51953125
YMin: 6838623.399999995
XMax: 671749.51953125
YMax: 6879143.399999995
Spatial Reference: 102110
(2154)
Pixel Size X: 10.0
Pixel Size Y: 10.0
Band Count: 1
Pixel Type: F32
RasterFunction Infos: {"rasterFunctionInfos": [{
"name": "None",
"description": "",
"help": ""
}]}
Mensuration Capabilities: Basic
Has Histograms: true
Has Colormap: false
Has Multi Dimensions : false
Rendering Rule:
Min Scale: 0
Max Scale: 0
Copyright Text:
Service Data Type: esriImageServiceDataTypeGeneric
Min Values: 0
Max Values: 797.7564697265625
Mean Values: 14.24447640570836
Standard Deviation Values: 39.171267753767324
Object ID Field:
Fields:
None
Default Mosaic Method: Center
Allowed Mosaic Methods:
SortField:
SortValue: null
Mosaic Operator: First
Default Compression Quality: 75
Default Resampling Method: Bilinear
Max Record Count: null
Max Image Height: 4100
Max Image Width: 15000
Max Download Image Count: null
Max Mosaic Image Count: null
Allow Raster Function: true
Allow Copy: true
Allow Analysis: true
Allow Compute TiePoints: false
Supports Statistics: false
Supports Advanced Queries: false
Use StandardizedQueries: true
Raster Type Infos:
Name: Raster Dataset
Description: Supports all ArcGIS Raster Datasets
Help:
Has Raster Attribute Table: false
Edit Fields Info: null
Ownership Based AccessControl For Rasters: null
Child Resources:
Info
Histograms
Statistics
Key Properties
Legend
Raster Function Infos
Supported Operations:
Export Image
Identify
Measure
Compute Histograms
Compute Statistics Histograms
Get Samples
Compute Class Statistics
Query Boundary
Compute Pixel Location
Compute Angles
Validate
Project