View In:
ArcGIS JavaScript
ArcGIS Online Map Viewer
ArcGIS Earth
Service Description: opendata_SCOT_RASTER_Projet
Name: opendata_SCOT_RASTER_Projet
Description:
Single Fused Map Cache: false
Extent:
XMin: 225084.31248026746
YMin: 6208394.884157023
XMax: 331569.35064225295
YMax: 6284995.992402173
Spatial Reference: 102100
(3857)
Initial Extent:
XMin: 225084.31248026746
YMin: 6208394.884157023
XMax: 331569.35064225295
YMax: 6284995.992402173
Spatial Reference: 102100
(3857)
Full Extent:
XMin: 225084.31248026746
YMin: 6208394.884157023
XMax: 331569.35064225295
YMax: 6284995.992402173
Spatial Reference: 102100
(3857)
Pixel Size X: 3.2984864529933864
Pixel Size Y: 3.3270113032118336
Band Count: 4
Pixel Type: U8
RasterFunction Infos: {"rasterFunctionInfos": [{
"name": "None",
"description": "",
"help": ""
}]}
Mensuration Capabilities: Basic
Has Histograms: true
Has Colormap: false
Has Multi Dimensions : false
Rendering Rule:
Min Scale: 0
Max Scale: 0
Copyright Text:
Service Data Type: esriImageServiceDataTypeGeneric
Min Values: 0, 0, 0, 0
Max Values: 255, 255, 255, 255
Mean Values: 209.98383940410207, 212.81143081013127, 211.68978987503604, 216.89184691148222
Standard Deviation Values: 76.87636191728016, 76.54190673247454, 75.99790360435837, 75.54861531560142
Object ID Field:
Fields:
None
Default Mosaic Method: Center
Allowed Mosaic Methods:
SortField:
SortValue: null
Mosaic Operator: First
Default Compression Quality: 75
Default Resampling Method: Bilinear
Max Record Count: null
Max Image Height: 4100
Max Image Width: 15000
Max Download Image Count: null
Max Mosaic Image Count: null
Allow Raster Function: true
Allow Copy: true
Allow Analysis: true
Allow Compute TiePoints: false
Supports Statistics: false
Supports Advanced Queries: false
Use StandardizedQueries: true
Raster Type Infos:
Name: Raster Dataset
Description: Supports all ArcGIS Raster Datasets
Help:
Has Raster Attribute Table: false
Edit Fields Info: null
Ownership Based AccessControl For Rasters: null
Child Resources:
Info
Histograms
Statistics
Key Properties
Legend
Raster Function Infos
Supported Operations:
Export Image
Identify
Measure
Compute Histograms
Compute Statistics Histograms
Get Samples
Compute Class Statistics
Query Boundary
Compute Pixel Location
Compute Angles
Validate
Project